BEGIN:VCALENDAR
VERSION:2.0
PRODID:-//Uptown Rutland - ECPv6.15.20//NONSGML v1.0//EN
CALSCALE:GREGORIAN
METHOD:PUBLISH
X-WR-CALNAME:Uptown Rutland
X-ORIGINAL-URL:https://ourrutland.ca
X-WR-CALDESC:Events for Uptown Rutland
REFRESH-INTERVAL;VALUE=DURATION:PT1H
X-Robots-Tag:noindex
X-PUBLISHED-TTL:PT1H
BEGIN:VTIMEZONE
TZID:America/Vancouver
BEGIN:DAYLIGHT
TZOFFSETFROM:-0800
TZOFFSETTO:-0700
TZNAME:PDT
DTSTART:20240310T100000
END:DAYLIGHT
BEGIN:STANDARD
TZOFFSETFROM:-0700
TZOFFSETTO:-0800
TZNAME:PST
DTSTART:20241103T090000
END:STANDARD
BEGIN:DAYLIGHT
TZOFFSETFROM:-0800
TZOFFSETTO:-0700
TZNAME:PDT
DTSTART:20250309T100000
END:DAYLIGHT
BEGIN:STANDARD
TZOFFSETFROM:-0700
TZOFFSETTO:-0800
TZNAME:PST
DTSTART:20251102T090000
END:STANDARD
BEGIN:DAYLIGHT
TZOFFSETFROM:-0800
TZOFFSETTO:-0700
TZNAME:PDT
DTSTART:20260308T100000
END:DAYLIGHT
BEGIN:STANDARD
TZOFFSETFROM:-0700
TZOFFSETTO:-0800
TZNAME:PST
DTSTART:20261101T090000
END:STANDARD
BEGIN:DAYLIGHT
TZOFFSETFROM:-0800
TZOFFSETTO:-0700
TZNAME:PDT
DTSTART:20270314T100000
END:DAYLIGHT
BEGIN:STANDARD
TZOFFSETFROM:-0700
TZOFFSETTO:-0800
TZNAME:PST
DTSTART:20271107T090000
END:STANDARD
END:VTIMEZONE
BEGIN:VEVENT
DTSTART;TZID=America/Vancouver:20250306T170000
DTEND;TZID=America/Vancouver:20250306T183000
DTSTAMP:20260423T031639
CREATED:20250227T173948Z
LAST-MODIFIED:20250227T173948Z
UID:1986-1741280400-1741285800@ourrutland.ca
SUMMARY:URBA Annual General Meeting
DESCRIPTION:Mark your calendars for the URBA Annual General Meeting on Thursday\, March 6\, at Valleyview Funeral Home\, located at 165 Valleyview Road. \nDoors open at 5:00 PM\, with the meeting starting promptly at 5:30 PM and adjourning by 6:30 PM. \nThis is your opportunity to hear about URBA’s accomplishments in 2024 and gain insight into its vision and plans for the year ahead. Join us to stay informed\, connect with fellow members\, and play a part in shaping the future of our vibrant business community. \nThis is a FREE event. Please register by emailing our Executive Director\, Karen Beaubier at executivedirector@uptownrutland.com \nWe look forward to seeing you there!
URL:https://ourrutland.ca/event/urba-annual-general-meeting/
LOCATION:Valleyview Funeral Home\, 165 Valleyview Rd\, Kelowna\, BC\, V1X 3M5\, Canada
END:VEVENT
BEGIN:VEVENT
DTSTART;TZID=America/Vancouver:20250402T170000
DTEND;TZID=America/Vancouver:20250402T190000
DTSTAMP:20260423T031639
CREATED:20250221T203139Z
LAST-MODIFIED:20250221T203139Z
UID:1978-1743613200-1743620400@ourrutland.ca
SUMMARY:April After Hours at Aubin & Associates
DESCRIPTION:Please join us for our first URBA After Hours of 2025! Hosted by Aubin & Associates\, located at 100 – 160 Dougall Road South. \nTaking place from 5 – 7 pm on Wednesday\, April 2nd. Enjoy an evening of networking\, bites and beverages\, a business card draw\, and learn about what URBA is currently working on for our community. \nMember Tickets Available Here \nNon-Member Tickets Available Here
URL:https://ourrutland.ca/event/april-after-hours-at-aubin-associates/
LOCATION:Aubin & Associates\, 100 – 160 Dougall Road South\, Kelowna\, British Columbia\, V1X 3J4\, Canada
END:VEVENT
BEGIN:VEVENT
DTSTART;TZID=America/Vancouver:20250426T120000
DTEND;TZID=America/Vancouver:20250426T160000
DTSTAMP:20260423T031639
CREATED:20250417T191248Z
LAST-MODIFIED:20250417T191334Z
UID:2001-1745668800-1745683200@ourrutland.ca
SUMMARY:Kelowna Vaisakhi Parade
DESCRIPTION:Free to attend! \nTaking place on Saturday\, April 26th at Rutland’s Kelowna Sikh Temple. Starting at 12 pm\, stop by the URBA booth to get your hands on exclusive coupons to some of Rutland’s finest local businesses. \nLocated at 1111 Rutland Rd N\, Kelowna\, BC V1X 4T7.
URL:https://ourrutland.ca/event/kelowna-vaisakhi-parade/
LOCATION:British Columbia
ATTACH;FMTTYPE=image/jpeg:https://ourrutland.ca/wp-content/uploads/2025/04/IMG_0577.jpg
END:VEVENT
BEGIN:VEVENT
DTSTART;TZID=America/Vancouver:20250507T170000
DTEND;TZID=America/Vancouver:20250507T190000
DTSTAMP:20260423T031639
CREATED:20250221T204219Z
LAST-MODIFIED:20250221T204225Z
UID:1981-1746637200-1746644400@ourrutland.ca
SUMMARY:May After Hours at Army Navy & Air Force Veterans In Canada Unit 376
DESCRIPTION:Please join us for our May edition of the URBA After Hours! Hosted by Army Navy & Air Force Veterans In Canada Unit 376\, located at 150 Gray Road. \nTaking place from 5 – 7 pm on Wednesday\, May 7th. Enjoy an evening of networking\, bites and beverages\, a business card draw\, and learn about what URBA is currently working on for our community. \nMember Tickets Available Here \nNon-Member Tickets Available Here
URL:https://ourrutland.ca/event/may-after-hours-at-army-navy-air-force-veterans-in-canada-unit-376/
LOCATION:British Columbia
END:VEVENT
BEGIN:VEVENT
DTSTART;TZID=America/Vancouver:20250604T170000
DTEND;TZID=America/Vancouver:20250604T190000
DTSTAMP:20260423T031639
CREATED:20250221T205031Z
LAST-MODIFIED:20250227T170625Z
UID:1983-1749056400-1749063600@ourrutland.ca
SUMMARY:June After Hours at The Woods
DESCRIPTION:Please join us for an outdoor URBA After Hours! Hosted by The Woods at Willow Park Shopping Centre. \nTaking place from 5 – 7 pm on Wednesday\, June 4th. Enjoy an evening of networking on the outdoor patio\, bites and beverages\, a business card draw\, and learn about what URBA is currently working on for our community. \nMember Tickets Available Here \nNon-Member Tickets Available Here
URL:https://ourrutland.ca/event/june-after-hours-at-the-woods/
LOCATION:The Woods at Willow Park Shopping Centre\, 235 Hollywood Road North\, Kelowna\, British Columbia\, Canada
END:VEVENT
BEGIN:VEVENT
DTSTART;TZID=America/Vancouver:20250622T120000
DTEND;TZID=America/Vancouver:20250622T160000
DTSTAMP:20260423T031639
CREATED:20250423T232353Z
LAST-MODIFIED:20250423T232353Z
UID:2004-1750593600-1750608000@ourrutland.ca
SUMMARY:Fourth Annual Rutland Residents Celebration
DESCRIPTION:Get ready\, Rutland! The Fourth Annual Rutland Residents Celebration is just around the corner\, and you’re invited to join the fun. Hosted by the Rutland Residents Association\, this event is all about bringing our amazing community together for an unforgettable day. \nAnd theres something for everyone: live music to keep you grooving\, games and face painting to delight the kids\, and tasty treats to keep you fueled for the fun. It’s the perfect event to welcome summer\, connect with neighbours\, and celebrate all the things that make Rutland awesome! \nThis is a free event. See you there! \nDate: Sunday\, June 22\, 12:00 PM – 4:00 PMLocation: Stage Area\, Rutland Centennial Park
URL:https://ourrutland.ca/event/fourth-annual-rutland-residents-celebration/
LOCATION:Rutland Centennial Park\, 190 McIntosh Rd\, Kelowna\, BC\, V1X 2C4\, Canada
END:VEVENT
BEGIN:VEVENT
DTSTART;TZID=America/Vancouver:20251015T170000
DTEND;TZID=America/Vancouver:20251015T190000
DTSTAMP:20260423T031639
CREATED:20250819T193727Z
LAST-MODIFIED:20251014T171120Z
UID:2094-1760547600-1760554800@ourrutland.ca
SUMMARY:October After Hours at Tamm Latin Market and Manohar Vegetarian Bakery
DESCRIPTION:October 15th from 5 – 7 pm\, at Tamm Latin Market and Manohar Vegetarian Bakery\, located at 203 Rutland Rd N\, Partake in an evening of networking\, bites and beverages\, a business card draw\, and learn about what URBA is currently working on for our community. \nUnwind\, network\, and connect with fellow business owners\, entrepreneurs\, and community leaders. All while enjoying delicious local catering. \nDon’t miss out on the first returning After Hours since summer break! Click Here for Tickets \n 
URL:https://ourrutland.ca/event/october-after-hours/
LOCATION:British Columbia
CATEGORIES:After Hours
ATTACH;FMTTYPE=image/jpeg:https://ourrutland.ca/wp-content/uploads/2025/08/15ad6327-272d-4608-9101-975cd9b97f91-scaled.jpg
END:VEVENT
BEGIN:VEVENT
DTSTART;TZID=America/Vancouver:20251130T143000
DTEND;TZID=America/Vancouver:20251130T163000
DTSTAMP:20260423T031639
CREATED:20251031T151843Z
LAST-MODIFIED:20251110T213816Z
UID:2129-1764513000-1764520200@ourrutland.ca
SUMMARY:Rutland Winter Light Up
DESCRIPTION:Join us as we kick off the holiday season in Rutland Centennial Park on Sunday\, November 30\, for the 2025 Rutland Winter Light Up — a festive afternoon for all ages. \nThis free community celebration will feature live entertainment\, carolling\, crafting\, local vendors\, delicious food and hot cocoa\, photos with Santa\, and plenty more holiday cheer. \nThe event runs from 2:30–4:30 p.m. in partnership with the City of Kelowna. We are excited to welcome Mayor Tom Dyas for the official tree lighting at 4:15 p.m. \nBundle up\, bring your friends and family\, and help us celebrate the magic of winter in Rutland. \nMore details coming soon — stay tuned! \nReserve your free photos with Santa here.
URL:https://ourrutland.ca/event/rutland-winter-light-up/
LOCATION:Rutland Centennial Park\, 190 McIntosh Rd\, Kelowna\, BC\, V1X 2C4\, Canada
CATEGORIES:Light Up
ATTACH;FMTTYPE=image/png:https://ourrutland.ca/wp-content/uploads/2025/10/Rutland-Winter-Light-Up-Promo-Banner.png
END:VEVENT
BEGIN:VEVENT
DTSTART;TZID=America/Vancouver:20251205T170000
DTEND;TZID=America/Vancouver:20251205T210000
DTSTAMP:20260423T031639
CREATED:20250819T191811Z
LAST-MODIFIED:20251120T000052Z
UID:2091-1764954000-1764968400@ourrutland.ca
SUMMARY:URBA Holiday Mixer with the Kelowna Chiefs
DESCRIPTION:Mark your calendars! \nFriday\, Dec. 5 from 5 to 9 p.m.\, join us for an URBA After Hours event like no other! \nMingle with fellow business owners and community members while enjoying great bites\, beverages\, and important local updates. From 5 to 7 p.m.\, take part in networking\, a business card draw and more — then stay to cheer on the Kelowna Chiefs as they face the Osoyoos Coyotes at 7 p.m. at Rutland Arena. \nURBA is excited to welcome Mayor Tom Dyas and other city and provincial officials. Attendees can also enjoy local bites from Kelowna’s Perogy Hut. \nLet’s celebrate the holidays together and kick off the season with community spirit! \nTickets Available Here.
URL:https://ourrutland.ca/event/december-after-hours-kelowna-chiefs/
LOCATION:Rutland Arena\, 645 Dodd Rd\, Kelowna\, BC\, V1W 5H1\, Canada
CATEGORIES:After Hours
ATTACH;FMTTYPE=image/png:https://ourrutland.ca/wp-content/uploads/2025/08/Promo-Rinkside-After-Hours-1.png
END:VEVENT
BEGIN:VEVENT
DTSTART;TZID=America/Vancouver:20260331T173000
DTEND;TZID=America/Vancouver:20260331T193000
DTSTAMP:20260423T031639
CREATED:20260223T215835Z
LAST-MODIFIED:20260313T213546Z
UID:2264-1774978200-1774985400@ourrutland.ca
SUMMARY:URBA AGM & After Hours
DESCRIPTION:Join us March 31 from 5:30–7:30 p.m at Beem Credit Union for an evening of connection and conversation. Following our AGM\, we will share plans for the coming year and look forward to your thoughts on how to attract and expand business prosperity in Rutland. \nFree to attend. Drink tickets will be available for purchase at event. We look forward to seeing you there! Reserve your spot here.
URL:https://ourrutland.ca/event/urba-agm-after-hours/
LOCATION:Beem Credit Union\, 185 Rutland Road South\, Kelowna\, British Columbia\, V1X2Z3\, Canada
CATEGORIES:AGM
ATTACH;FMTTYPE=image/jpeg:https://ourrutland.ca/wp-content/uploads/2024/02/20221102_183027-scaled.jpg
END:VEVENT
BEGIN:VEVENT
DTSTART;TZID=America/Vancouver:20260425T110000
DTEND;TZID=America/Vancouver:20260425T160000
DTSTAMP:20260423T031639
CREATED:20260416T003850Z
LAST-MODIFIED:20260416T004540Z
UID:2362-1777114800-1777132800@ourrutland.ca
SUMMARY:2026 Kelowna Vaisakhi Parade
DESCRIPTION:Celebrate Vaisakhi and Sikh Heritage Month with the community at the Kelowna Vaisakhi Nagar Kirtan Parade. This free\, family-friendly event welcomes everyone to experience a vibrant day of culture\, connection and celebration. \nEvent Schedule\n\nTemple Celebrations: 11 a.m. to 4 p.m.\nParade (Nagar Kirtan): Departs at 12 p.m. Returns at approximately 2:15 p.m.\n\n \nParade Route\nThe parade will travel in a counter-clockwise direction along:\nRutland Road N → Wallace Road → Sycamore Road → Sumac Road → returning to the temple \nNote: Full road closures will be in effect from approximately 10 a.m. to 3 p.m. along the parade route. \nWhat to Expect\n\nComplimentary Punjabi food\nCultural displays and vendors including the URBA tent\nChildren’s activities throughout the day\nLive cultural celebration and performances\nA welcoming\, inclusive atmosphere for all ages\n\nVisitor Information\n\nParking is available in designated areas outside the parade route\nNo vehicle access along the route during closure times\nGuests are encouraged to walk and explore the event grounds\n\n  \nBring your family and friends and join us in celebrating one of Kelowna’s most vibrant cultural events.
URL:https://ourrutland.ca/event/2026-kelowna-vaisakhi-parade/
LOCATION:Okanagan Sikh Temple\, 1111 Rutland Road North\, Kelowna\, British Columbia\, V1X 4T7\, Canada
CATEGORIES:Community
ATTACH;FMTTYPE=image/jpeg:https://ourrutland.ca/wp-content/uploads/2026/04/temple7.jpg
END:VEVENT
END:VCALENDAR